BEGIN:VCALENDAR
VERSION:2.0
PRODID:-//[COPY] TRIEL CHANTELOUP HAUTIL HANDBALL - ECPv6.1.3//NONSGML v1.0//EN
CALSCALE:GREGORIAN
METHOD:PUBLISH
X-WR-CALNAME:[COPY] TRIEL CHANTELOUP HAUTIL HANDBALL
X-ORIGINAL-URL:http://s313858642.onlinehome.fr
X-WR-CALDESC:évènements pour [COPY] TRIEL CHANTELOUP HAUTIL HANDBALL
REFRESH-INTERVAL;VALUE=DURATION:PT1H
X-Robots-Tag:noindex
X-PUBLISHED-TTL:PT1H
BEGIN:VTIMEZONE
TZID:Europe/Paris
BEGIN:DAYLIGHT
TZOFFSETFROM:+0100
TZOFFSETTO:+0200
TZNAME:CEST
DTSTART:20200329T010000
END:DAYLIGHT
BEGIN:STANDARD
TZOFFSETFROM:+0200
TZOFFSETTO:+0100
TZNAME:CET
DTSTART:20201025T010000
END:STANDARD
END:VTIMEZONE
BEGIN:VEVENT
DTSTART;TZID=Europe/Paris:20200905T100000
DTEND;TZID=Europe/Paris:20200905T180000
DTSTAMP:20260420T024433
CREATED:20200725T134302Z
LAST-MODIFIED:20200914T194659Z
UID:6670-1599300000-1599328800@s313858642.onlinehome.fr
SUMMARY:Forum des Associations - Chanteloup les Vignes
DESCRIPTION:Venez découvrir le Handball et vous inscrire au Forum des associations de Chanteloup les Vignes
URL:http://s313858642.onlinehome.fr/event/forum-des-association-chanteloup-les-vignes
LOCATION:Gymnase Laura Flessel – Chanteloup les Vignes\, 12 mail du coteau\, Chanteloup les Vignes\, 78570\, France
ORGANIZER;CN="Triel%20Chanteloup%20Hautil%20Handball":MAILTO:contact@triel-handball.org
END:VEVENT
BEGIN:VEVENT
DTSTART;TZID=Europe/Paris:20200905T100000
DTEND;TZID=Europe/Paris:20200905T180000
DTSTAMP:20260420T024433
CREATED:20200725T133936Z
LAST-MODIFIED:20200914T194700Z
UID:6667-1599300000-1599328800@s313858642.onlinehome.fr
SUMMARY:Forum des Associations - Triel sur Seine
DESCRIPTION:Venez découvrir le Handball et vous inscrire au Forum des associations de Triel sur Seine
URL:http://s313858642.onlinehome.fr/event/forum-des-associations-triel-sur-seine
LOCATION:COSEC (Triel sur Seine)\, 61 rue de Chanteloup\, Triel sur Seine\, 78510
CATEGORIES:Vie du Club
ORGANIZER;CN="Triel%20Chanteloup%20Hautil%20Handball":MAILTO:contact@triel-handball.org
END:VEVENT
BEGIN:VEVENT
DTSTART;VALUE=DATE:20200615
DTEND;VALUE=DATE:20200704
DTSTAMP:20260420T024433
CREATED:20200610T213952Z
LAST-MODIFIED:20200914T194700Z
UID:6339-1592179200-1593820799@s313858642.onlinehome.fr
SUMMARY:Reprise Activités Handball Plein Air - Cosec
DESCRIPTION:Nous reprenons nos activités en plein air. toutes les infos sur la page Reprise Activités
URL:http://s313858642.onlinehome.fr/event/reprise-activites-handball-plein-air-cosec
LOCATION:COSEC (Triel sur Seine)\, 61 rue de Chanteloup\, Triel sur Seine\, 78510
CATEGORIES:Vie du Club
ORGANIZER;CN="Triel%20Chanteloup%20Hautil%20Handball":MAILTO:contact@triel-handball.org
END:VEVENT
BEGIN:VEVENT
DTSTART;TZID=Europe/Paris:20200208T090000
DTEND;TZID=Europe/Paris:20200208T140000
DTSTAMP:20260420T024433
CREATED:20200119T222539Z
LAST-MODIFIED:20200427T205650Z
UID:916-1581152400-1581170400@s313858642.onlinehome.fr
SUMMARY:Salon de l'orientation du TCHH
DESCRIPTION:
URL:http://s313858642.onlinehome.fr/event/salon-de-lorientation-du-tchh
LOCATION:Salle Rémy Barrat\, Boulevard de la Petite vitesse\, Triel sur Seine\, 78510\, France
CATEGORIES:Vie du Club
ORGANIZER;CN="Triel%20Chanteloup%20Hautil%20Handball":MAILTO:contact@triel-handball.org
END:VEVENT
BEGIN:VEVENT
DTSTART;TZID=Europe/Paris:20200118T160000
DTEND;TZID=Europe/Paris:20200118T180000
DTSTAMP:20260420T024433
CREATED:20200105T101613Z
LAST-MODIFIED:20200427T205650Z
UID:849-1579363200-1579370400@s313858642.onlinehome.fr
SUMMARY:Galette du Club 2020 - Bonne année à Tous
DESCRIPTION:
URL:http://s313858642.onlinehome.fr/event/galette-du-club-2020-bonne-annee-a-tous
LOCATION:COSEC (Triel sur Seine)\, 61 rue de Chanteloup\, Triel sur Seine\, 78510
CATEGORIES:Vie du Club
END:VEVENT
END:VCALENDAR